BEGIN:VCALENDAR
VERSION:2.0
PRODID:-//Mischief - ECPv4.4.5//NONSGML v1.0//EN
CALSCALE:GREGORIAN
METHOD:PUBLISH
X-WR-CALNAME:Mischief
X-ORIGINAL-URL:http://www.mischief.ie
X-WR-CALDESC:Events for Mischief
BEGIN:VEVENT
DTSTART;TZID=Europe/London:20170624T230000
DTEND;TZID=Europe/London:20170625T023000
DTSTAMP:20171106T181149
CREATED:20170621T120622Z
LAST-MODIFIED:20170621T120622Z
UID:3554-1498345200-1498357800@www.mischief.ie
SUMMARY:Aaron Chalmers ( Gshore) @ Mischief - Sat 24th June
DESCRIPTION:Procrastination Saturdays \nPresents \n\nAaron Chalmers ( Gshore ) \n@\nMischief \n\nSaturday 24th June \n\n************************\nALL DRINKS €4 ALL NIGHT\n*************************\n************************\nALL DRINKS €4 ALL NIGHT\n*************************\n************************\nALL DRINKS €4 ALL NIGHT\n************************\n☝️️☝️️☝️️☝️️☝️️☝️️☝️️☝️️\nWANT "CHEAPLIST" ADMISSION???\nUse the app now \n\nLink: http://app.vipsy.co/#!/events/industry\n\n☝️️☝️️☝️️☝️️☝️️☝️️☝️️☝️️☝️️☝️️☝️️☝️️☝️️\n\n\nExpect to hear music from artists such as:\n\nBeyonce\, MK\, Disclosure\, Kanye West\, The Weeknd\, Blonde\, Sam Divine\, Martin Garrix\, Eminem\, Domovoy\, Throwback 90s anthemns\, Chris Brown\,  Drake\, Snakehips\, Preditah\, Hannah Wants\, Julio Bashmore\,  Duke Dumont\, Kaytranada\, Puff Daddy\, Nas\, Missy Elliott\, Jay Z\, Sigma\, Billon\, Friend Within\, Dr Dre\, Snoop Dogg & more!\n\nMixed by Mischief Residents. \n\n▓▓▓████▓▓▓▓▓▓▓▓████▓▓▓▓▓▓▓▓████▓▓▓▓▓▓▓▓████▓▓▓\n\nEntry Pricing...\n▬▬▬▬▬▬▬\n\nFREE for the first 50\n€6 Cheaplist\n€8 General Admission\n\nSIGN UP HERE: http://app.vipsy.co/industry\n\n\n▓▓▓████▓▓▓▓▓▓▓▓████▓▓▓▓▓▓▓▓████▓▓▓▓▓▓▓▓████▓▓▓\n\nDrinks prices…\n▬▬▬▬▬▬\n\nALL DRINKS €4\n\n▓▓▓████▓▓▓▓▓▓▓▓████▓▓▓▓▓▓▓▓████▓▓▓▓▓▓▓▓████▓▓▓
URL:http://www.mischief.ie/event/aaron-chalmers-gshore-mischief-sat-24th-june/
LOCATION:Main Street\, Maynooth\, IE
GEO:53.3816986;-6.590574
X-APPLE-STRUCTURED-LOCATION;VALUE=URI;X-ADDRESS=Main Street Maynooth IE;X-APPLE-RADIUS=500;X-TITLE=Main Street:geo:-6.590574,53.3816986
CATEGORIES:EVENT
ATTACH;FMTTYPE=image/jpeg:http://www.mischief.ie/wp-content/uploads/2017/06/3554_image_19146057_1750769718272706_1844772666394129207_n.jpg
END:VEVENT
END:VCALENDAR